BEGIN:VCALENDAR
VERSION:2.0
PRODID:-//Jazz Combo - ECPv6.15.20//NONSGML v1.0//EN
CALSCALE:GREGORIAN
METHOD:PUBLISH
X-ORIGINAL-URL:https://jazz-combo.de
X-WR-CALDESC:Veranstaltungen für Jazz Combo
REFRESH-INTERVAL;VALUE=DURATION:PT1H
X-Robots-Tag:noindex
X-PUBLISHED-TTL:PT1H
BEGIN:VTIMEZONE
TZID:Europe/Helsinki
BEGIN:DAYLIGHT
TZOFFSETFROM:+0200
TZOFFSETTO:+0300
TZNAME:EEST
DTSTART:20240331T010000
END:DAYLIGHT
BEGIN:STANDARD
TZOFFSETFROM:+0300
TZOFFSETTO:+0200
TZNAME:EET
DTSTART:20241027T010000
END:STANDARD
BEGIN:DAYLIGHT
TZOFFSETFROM:+0200
TZOFFSETTO:+0300
TZNAME:EEST
DTSTART:20250330T010000
END:DAYLIGHT
BEGIN:STANDARD
TZOFFSETFROM:+0300
TZOFFSETTO:+0200
TZNAME:EET
DTSTART:20251026T010000
END:STANDARD
BEGIN:DAYLIGHT
TZOFFSETFROM:+0200
TZOFFSETTO:+0300
TZNAME:EEST
DTSTART:20260329T010000
END:DAYLIGHT
BEGIN:STANDARD
TZOFFSETFROM:+0300
TZOFFSETTO:+0200
TZNAME:EET
DTSTART:20261025T010000
END:STANDARD
END:VTIMEZONE
BEGIN:VEVENT
DTSTART;TZID=Europe/Helsinki:20250905T140000
DTEND;TZID=Europe/Helsinki:20250905T153000
DTSTAMP:20260421T003623
CREATED:20250418T204707Z
LAST-MODIFIED:20250418T204707Z
UID:150-1757080800-1757086200@jazz-combo.de
SUMMARY:Probe
DESCRIPTION:reguläre Probe
URL:https://jazz-combo.de/event/probe-9/
LOCATION:A 200
CATEGORIES:Probe
END:VEVENT
BEGIN:VEVENT
DTSTART;TZID=Europe/Helsinki:20250907T163000
DTEND;TZID=Europe/Helsinki:20250907T183000
DTSTAMP:20260421T003623
CREATED:20250418T213425Z
LAST-MODIFIED:20250418T213425Z
UID:177-1757262600-1757269800@jazz-combo.de
SUMMARY:Auftritt Schweighofen
DESCRIPTION:Auftritt Schweighofen (WO)
URL:https://jazz-combo.de/event/auftritt-schweighofen/
LOCATION:Kulturhalle\, Schulstraße\, Schweighofen\, 76889
CATEGORIES:Auftritt
END:VEVENT
END:VCALENDAR