BEGIN:VCALENDAR
VERSION:2.0
PRODID:-//Jazz Combo - ECPv6.15.20//NONSGML v1.0//EN
CALSCALE:GREGORIAN
METHOD:PUBLISH
X-WR-CALNAME:Jazz Combo
X-ORIGINAL-URL:https://jazz-combo.de
X-WR-CALDESC:Veranstaltungen für Jazz Combo
REFRESH-INTERVAL;VALUE=DURATION:PT1H
X-Robots-Tag:noindex
X-PUBLISHED-TTL:PT1H
BEGIN:VTIMEZONE
TZID:Europe/Helsinki
BEGIN:DAYLIGHT
TZOFFSETFROM:+0200
TZOFFSETTO:+0300
TZNAME:EEST
DTSTART:20240331T010000
END:DAYLIGHT
BEGIN:STANDARD
TZOFFSETFROM:+0300
TZOFFSETTO:+0200
TZNAME:EET
DTSTART:20241027T010000
END:STANDARD
BEGIN:DAYLIGHT
TZOFFSETFROM:+0200
TZOFFSETTO:+0300
TZNAME:EEST
DTSTART:20250330T010000
END:DAYLIGHT
BEGIN:STANDARD
TZOFFSETFROM:+0300
TZOFFSETTO:+0200
TZNAME:EET
DTSTART:20251026T010000
END:STANDARD
BEGIN:DAYLIGHT
TZOFFSETFROM:+0200
TZOFFSETTO:+0300
TZNAME:EEST
DTSTART:20260329T010000
END:DAYLIGHT
BEGIN:STANDARD
TZOFFSETFROM:+0300
TZOFFSETTO:+0200
TZNAME:EET
DTSTART:20261025T010000
END:STANDARD
END:VTIMEZONE
BEGIN:VEVENT
DTSTART;TZID=Europe/Helsinki:20250606T140000
DTEND;TZID=Europe/Helsinki:20250606T153000
DTSTAMP:20260421T020505
CREATED:20250418T203849Z
LAST-MODIFIED:20250418T203849Z
UID:140-1749218400-1749223800@jazz-combo.de
SUMMARY:Probe
DESCRIPTION:reguläre Probe
URL:https://jazz-combo.de/event/probe-4/
LOCATION:A 200
CATEGORIES:Probe
END:VEVENT
BEGIN:VEVENT
DTSTART;TZID=Europe/Helsinki:20250613T123000
DTEND;TZID=Europe/Helsinki:20250613T153000
DTSTAMP:20260421T020505
CREATED:20250418T211143Z
LAST-MODIFIED:20250418T211143Z
UID:163-1749817800-1749828600@jazz-combo.de
SUMMARY:Auftritt Wohnpark SÜW
DESCRIPTION:Auftritt Wohnpark SÜW\,(Convivo) (WO)
URL:https://jazz-combo.de/event/auftritt-wohnpark-suew/
LOCATION:Wohnpark SÜW\, Tischbergerstraße 4\, Bad Bergzabern\, 76887\, Germany
CATEGORIES:Auftritt
END:VEVENT
BEGIN:VEVENT
DTSTART;TZID=Europe/Helsinki:20250624T075500
DTEND;TZID=Europe/Helsinki:20250627T130000
DTSTAMP:20260421T020505
CREATED:20250418T211636Z
LAST-MODIFIED:20250418T211636Z
UID:166-1750751700-1751029200@jazz-combo.de
SUMMARY:Künstlerische Probetage
DESCRIPTION:Künstlerische Probetage 1-6 Schulstunde. Probe findet statt!
URL:https://jazz-combo.de/event/kuenstlerische-probetage/
LOCATION:A 200
CATEGORIES:Probe
END:VEVENT
BEGIN:VEVENT
DTSTART;TZID=Europe/Helsinki:20250628T100000
DTEND;TZID=Europe/Helsinki:20250628T130000
DTSTAMP:20260421T020505
CREATED:20250418T204033Z
LAST-MODIFIED:20250418T204033Z
UID:142-1751104800-1751115600@jazz-combo.de
SUMMARY:Probe
DESCRIPTION:Probe für Jubiläum
URL:https://jazz-combo.de/event/probe-5/
LOCATION:A 200
CATEGORIES:Probe
END:VEVENT
BEGIN:VEVENT
DTSTART;TZID=Europe/Helsinki:20250628T180000
DTEND;TZID=Europe/Helsinki:20250628T200000
DTSTAMP:20260421T020505
CREATED:20250418T212404Z
LAST-MODIFIED:20250418T212404Z
UID:169-1751133600-1751140800@jazz-combo.de
SUMMARY:Jubiläumskonzert 25 Jahre Jazz Combo
DESCRIPTION:Jubiläumskonzert 25 Jahre Jazz Combo im Haus des Gastes! \n(A+K) Alumni sind Herzlich wilkommen und können mit eigenen Stücken musizieren. \nab 20 Uhr gemütliches Beisammensein der Alumni
URL:https://jazz-combo.de/event/jubilaeumskonzert-25-jahre-jazz-combo/
LOCATION:Haus des Gastes\, Rötzweg 7\, Bad Bergzabern\, 76887\, Germany
CATEGORIES:Auftritt
END:VEVENT
BEGIN:VEVENT
DTSTART;TZID=Europe/Helsinki:20250629T140000
DTEND;TZID=Europe/Helsinki:20250629T163000
DTSTAMP:20260421T020505
CREATED:20250418T212813Z
LAST-MODIFIED:20250418T212813Z
UID:172-1751205600-1751214600@jazz-combo.de
SUMMARY:Auftritt Bundenthal
DESCRIPTION:Auftritt Bundenthal  inklusive verpflegung (WO) \nTreff Schule: 12:15 Uhr\, Treff Bundenthal: 13:30
URL:https://jazz-combo.de/event/auftritt-bundenthal/
LOCATION:Bundenthal\, Bundenthal\, 76891
CATEGORIES:Auftritt
END:VEVENT
END:VCALENDAR