BEGIN:VCALENDAR
VERSION:2.0
PRODID:-//Jazz Combo - ECPv6.15.20//NONSGML v1.0//EN
CALSCALE:GREGORIAN
METHOD:PUBLISH
X-ORIGINAL-URL:https://jazz-combo.de
X-WR-CALDESC:Veranstaltungen für Jazz Combo
REFRESH-INTERVAL;VALUE=DURATION:PT1H
X-Robots-Tag:noindex
X-PUBLISHED-TTL:PT1H
BEGIN:VTIMEZONE
TZID:Europe/Helsinki
BEGIN:DAYLIGHT
TZOFFSETFROM:+0200
TZOFFSETTO:+0300
TZNAME:EEST
DTSTART:20240331T010000
END:DAYLIGHT
BEGIN:STANDARD
TZOFFSETFROM:+0300
TZOFFSETTO:+0200
TZNAME:EET
DTSTART:20241027T010000
END:STANDARD
BEGIN:DAYLIGHT
TZOFFSETFROM:+0200
TZOFFSETTO:+0300
TZNAME:EEST
DTSTART:20250330T010000
END:DAYLIGHT
BEGIN:STANDARD
TZOFFSETFROM:+0300
TZOFFSETTO:+0200
TZNAME:EET
DTSTART:20251026T010000
END:STANDARD
BEGIN:DAYLIGHT
TZOFFSETFROM:+0200
TZOFFSETTO:+0300
TZNAME:EEST
DTSTART:20260329T010000
END:DAYLIGHT
BEGIN:STANDARD
TZOFFSETFROM:+0300
TZOFFSETTO:+0200
TZNAME:EET
DTSTART:20261025T010000
END:STANDARD
END:VTIMEZONE
BEGIN:VEVENT
DTSTART;TZID=Europe/Helsinki:20250509T140000
DTEND;TZID=Europe/Helsinki:20250509T153000
DTSTAMP:20260421T033008
CREATED:20250418T202923Z
LAST-MODIFIED:20250418T202923Z
UID:131-1746799200-1746804600@jazz-combo.de
SUMMARY:Probe
DESCRIPTION:reguläre Probe
URL:https://jazz-combo.de/event/probe/
LOCATION:A 200
CATEGORIES:Probe
END:VEVENT
BEGIN:VEVENT
DTSTART;TZID=Europe/Helsinki:20250511T133000
DTEND;TZID=Europe/Helsinki:20250511T160000
DTSTAMP:20260421T033008
CREATED:20250418T204954Z
LAST-MODIFIED:20250418T204954Z
UID:152-1746970200-1746979200@jazz-combo.de
SUMMARY:Auftritt Bauernmarkt
DESCRIPTION:Auftritt Bauernmarkt (WO)
URL:https://jazz-combo.de/event/auftritt-bauernmarkt/
LOCATION:Schlossplatz\, Bad Bergzabern\, 76887
CATEGORIES:Auftritt
END:VEVENT
BEGIN:VEVENT
DTSTART;TZID=Europe/Helsinki:20250516T140000
DTEND;TZID=Europe/Helsinki:20250516T153000
DTSTAMP:20260421T033008
CREATED:20250418T203713Z
LAST-MODIFIED:20250418T203713Z
UID:136-1747404000-1747409400@jazz-combo.de
SUMMARY:Probe
DESCRIPTION:reguläre Probe
URL:https://jazz-combo.de/event/probe-2/
LOCATION:A 200
CATEGORIES:Probe
END:VEVENT
BEGIN:VEVENT
DTSTART;TZID=Europe/Helsinki:20250523T140000
DTEND;TZID=Europe/Helsinki:20250523T153000
DTSTAMP:20260421T033008
CREATED:20250418T203807Z
LAST-MODIFIED:20250418T203807Z
UID:138-1748008800-1748014200@jazz-combo.de
SUMMARY:Probe
DESCRIPTION:reguläre Probe
URL:https://jazz-combo.de/event/probe-3/
LOCATION:A 200
CATEGORIES:Probe
END:VEVENT
BEGIN:VEVENT
DTSTART;TZID=Europe/Helsinki:20250524T170000
DTEND;TZID=Europe/Helsinki:20250524T181500
DTSTAMP:20260421T033008
CREATED:20250418T210359Z
LAST-MODIFIED:20250418T210359Z
UID:157-1748106000-1748110500@jazz-combo.de
SUMMARY:Winden Bürgerhaus
DESCRIPTION:Auftritt Winden Bürgerhaus
URL:https://jazz-combo.de/event/winden-buergerhaus/
LOCATION:Bürgerhaus\, Winden\, 76872
CATEGORIES:Auftritt
END:VEVENT
BEGIN:VEVENT
DTSTART;TZID=Europe/Helsinki:20250527T200000
DTEND;TZID=Europe/Helsinki:20250527T203000
DTSTAMP:20260421T033008
CREATED:20250418T210758Z
LAST-MODIFIED:20250418T210758Z
UID:160-1748376000-1748377800@jazz-combo.de
SUMMARY:Bläserklassenkonzert
DESCRIPTION:Bläserklassenkonzert (A+K) Treff in A200 19:15 Uhr
URL:https://jazz-combo.de/event/blaeserklassenkonzert/
LOCATION:Gymnasium\, Lessingstraße 24\,\, Bad Bergzabern\, 76887\, Germany
CATEGORIES:Auftritt
END:VEVENT
END:VCALENDAR